BEGIN:VCALENDAR
VERSION:2.0
PRODID:-//fotoakademie-westfalen.de - ECPv6.15.17.1//NONSGML v1.0//EN
CALSCALE:GREGORIAN
METHOD:PUBLISH
X-WR-CALNAME:fotoakademie-westfalen.de
X-ORIGINAL-URL:https://fotoakademie-westfalen.de
X-WR-CALDESC:Veranstaltungen für fotoakademie-westfalen.de
REFRESH-INTERVAL;VALUE=DURATION:PT1H
X-Robots-Tag:noindex
X-PUBLISHED-TTL:PT1H
BEGIN:VTIMEZONE
TZID:Europe/Berlin
BEGIN:DAYLIGHT
TZOFFSETFROM:+0100
TZOFFSETTO:+0200
TZNAME:CEST
DTSTART:20250330T010000
END:DAYLIGHT
BEGIN:STANDARD
TZOFFSETFROM:+0200
TZOFFSETTO:+0100
TZNAME:CET
DTSTART:20251026T010000
END:STANDARD
BEGIN:DAYLIGHT
TZOFFSETFROM:+0100
TZOFFSETTO:+0200
TZNAME:CEST
DTSTART:20260329T010000
END:DAYLIGHT
BEGIN:STANDARD
TZOFFSETFROM:+0200
TZOFFSETTO:+0100
TZNAME:CET
DTSTART:20261025T010000
END:STANDARD
BEGIN:DAYLIGHT
TZOFFSETFROM:+0100
TZOFFSETTO:+0200
TZNAME:CEST
DTSTART:20270328T010000
END:DAYLIGHT
BEGIN:STANDARD
TZOFFSETFROM:+0200
TZOFFSETTO:+0100
TZNAME:CET
DTSTART:20271031T010000
END:STANDARD
END:VTIMEZONE
BEGIN:VEVENT
DTSTART;TZID=Europe/Berlin:20260607T210000
DTEND;TZID=Europe/Berlin:20260612T143000
DTSTAMP:20260422T144305
CREATED:20260316T160927Z
LAST-MODIFIED:20260316T162745Z
UID:5880-1780866000-1781274600@fotoakademie-westfalen.de
SUMMARY:Maritimer Intensiv-Workshop für ambitionierte Fotografen
DESCRIPTION:Stimmungen am Meer\, Hochseehafen und Containerriesen\, Helgoland\, eine Kutschfahrt auf dem Meeresgrund zur Insel Neuwerk\, Leuchttürme und Nationalpark Wattenmeer \n5 Tage Intensivschulung für das bewusste Sehen \n\nDich reizen die Küste und das Wattenmeer mit seiner tollen Natur und den maritimen Motiven? \nDiese seltene Intensivschulungswoche gibt dir die Möglichkeit\, eine Vielzahl an Fotoausflügen mit vielen lehrreichen Stunden kombinieren zu können. \nDurch die mögliche Unterbringung im Nordseebad Wremen direkt hinter dem Deich ist ein entspanntes Ausklingenlassen des Tages nach den spannenden Ausflügen bei guter und herzlicher Verpflegung in der umliegenden Gastronomie garantiert. \nDeine Begleitung ist ebenso willkommen und kann dort die Ruhe genießen oder – auf Wunsch – an unseren Ausflügen teilnehmen! \nWir verbringen fünf intensive Tage direkt am Wattenmeer im wunderschönen Wremen und dem Schulungsraum des Gästezentrums\, um von dort aus eine exklusive Zusammenstellung von Fotoexkursionen mit maritimen Motiven und Landschaftsbildern zu erstellen. \nNeben den fotografischen Ausflügen wird viel Zeit für Fragen\, Diskussionen und Lehrreiches vorhanden sein. Zu den Ausflügen gibt es kleine fotografische Aufgaben zu unterschiedlichen Schwerpunkten und Fragestellungen. \n  \nWeitere Infos: \nBildaufbau und Zusammenhänge werden anhand von Beispielen erklärt.\nDie dazu notwendigen Einstellungen der Kamera werden besprochen und eigene Motive in ausführlichen Praxisteilen angefertigt. \nAbgerundet werden die Tage durch gemeinsame Bildbearbeitung inklusive einer umfangreichen Bildbesprechung. \n  \nDaten & Rahmen: \nTermin: 07. bis 12. Juni 2026\nZielgruppe: Digitalfotografen\, Maritim begeisterte Fotografen – keine Vorkenntnisse nötig\nTeilnehmeranzahl: max. 8 Teilnehmer \n  \nKosten: \n\nFotokurs Montag bis Freitag: 699\,00 Euro inkl. MwSt. und Getränken\, Kaffee\nEintrittsgelder\, Fähren und spezielle Fahrkosten: 210\,00 € (nur als Gesamtpaket buchbar)\nFahrten zu den Veranstaltungszielen sind mit dem eigenen PKW oder durch Fahrgemeinschaften umzusetzen\n\n  \nÜbernachtung: \n\nIm Nordseebad Wremen vom 07.06. bis 12.06.2026 (5 Übernachtungen)\nab 550 € inkl. Halbpension\nEinzelzimmerzuschlag: 20 €/Nacht\nörtliche Kurtaxe nicht enthalten\n\n  \nVorläufiges Programm \n(wetterbedingte Änderungen vorbehalten) \nSonntag – 20:00 bis ca. 22:00 Uhr \n\nAnreise und Auftaktrunde auf dem Deichhof – Wremen\n\nMontag – 09:30 bis 11:00 Uhr\, Seminarraum \n\nDie richtigen Kameraeinstellungen\nWie gestalte ich meine Motive\nRezepte für plakative Umsetzungen\nDen „Moment“ sehen und festhalten\n\n11:00 bis ca. 16:00 Uhr \n\nPraxisteil in Bremerhaven\nTechnikmotive auf dem U-Boot Wilhelm Bauer\nFotografieren auf dem Rahsegler Schulschiff Deutschland\n\nDienstag – Tagesausflug \n\nMit der Pferdekutsche über den Wattboden nach Neuwerk\nLängerer Aufenthalt auf der Insel\nRückreise mit dem Schiff\nAbendstimmung Kutterhafen und Leuchtturm\n\nMittwoch – Praxisteile \n\nFotomotive am Wattenmeer\nBesuch Leuchtturm Oberfeuer Eversand\nSchifffahrt durch eine Schleuse und entlang der längsten Containerpier der Welt – „dicke Pötte“ garantiert\n\nDonnerstag – Seereise \n\nMit dem Katamaran von Cuxhaven zur Hochseeinsel Helgoland\nFotografisches Einfangen des roten Felsens im Rahmen einer Insel-Umrundung mit dem Börte-Boot\nBegegnung mit einem Helgoländer Seebären\n\nFreitag – 09:30 bis 14:00 Uhr\, Seminarraum \n\nBildbesprechung und Zusammenfassung\nFeedbackrunde in der Gruppe\nAuswahl der „Best of“ – Zusammenfassung der Erkenntnisse\nAbschlussbesprechung: offene Fragen und Resümee\n\n  \nOrte: \n\nGäste-Zentrum Nordseebad Wremen\nWurster Nordseeküste\nSeestädte Bremerhaven und Cuxhaven\nNeuwerk und Helgoland\n\n  \nWas wird benötigt: \n\nFotoausrüstung mit Objektiv/Objektiven/Stativ\n(falls vorhanden) Systemblitz / ND-Filter\nComputer / Laptop mit Raw-Konvertierungsprogramm (z. B. Lightroom\, CaptureOne\, Darktable)\n\n  \nWir freuen uns auf dich  \n– weitere Termine\, Infos und Anmeldung unter kontakt@fotoakademie-westfalen.de
URL:https://fotoakademie-westfalen.de/event/maritimer-intensiv-workshop-fuer-ambitionierte-fotografen/
LOCATION:Nordseebad Wremen\, In der Hofe 27\, Wurster Nordseeküste\, 27639
END:VEVENT
END:VCALENDAR